BEGIN:VCALENDAR
VERSION:2.0
PRODID:-//Drop the Anchor Brewery - ECPv6.15.11//NONSGML v1.0//EN
CALSCALE:GREGORIAN
METHOD:PUBLISH
X-WR-CALNAME:Drop the Anchor Brewery
X-ORIGINAL-URL:https://www.droptheanchorbrewery.co.uk
X-WR-CALDESC:Events for Drop the Anchor Brewery
REFRESH-INTERVAL;VALUE=DURATION:PT1H
X-Robots-Tag:noindex
X-PUBLISHED-TTL:PT1H
BEGIN:VTIMEZONE
TZID:Europe/London
BEGIN:DAYLIGHT
TZOFFSETFROM:+0000
TZOFFSETTO:+0100
TZNAME:BST
DTSTART:20240331T010000
END:DAYLIGHT
BEGIN:STANDARD
TZOFFSETFROM:+0100
TZOFFSETTO:+0000
TZNAME:GMT
DTSTART:20241027T010000
END:STANDARD
BEGIN:DAYLIGHT
TZOFFSETFROM:+0000
TZOFFSETTO:+0100
TZNAME:BST
DTSTART:20250330T010000
END:DAYLIGHT
BEGIN:STANDARD
TZOFFSETFROM:+0100
TZOFFSETTO:+0000
TZNAME:GMT
DTSTART:20251026T010000
END:STANDARD
BEGIN:DAYLIGHT
TZOFFSETFROM:+0000
TZOFFSETTO:+0100
TZNAME:BST
DTSTART:20260329T010000
END:DAYLIGHT
BEGIN:STANDARD
TZOFFSETFROM:+0100
TZOFFSETTO:+0000
TZNAME:GMT
DTSTART:20261025T010000
END:STANDARD
END:VTIMEZONE
BEGIN:VEVENT
DTSTART;TZID=Europe/London:20251206T130000
DTEND;TZID=Europe/London:20251206T210000
DTSTAMP:20260422T195018
CREATED:20250902T094336Z
LAST-MODIFIED:20251204T093037Z
UID:986-1765026000-1765054800@www.droptheanchorbrewery.co.uk
SUMMARY:12 Beers of Christmas
DESCRIPTION:Saturday 6th December | 1 PM – LateDrop the Anchor Brewery\, Lyndhurst Road\, Building 9\, East Close Farm\, Hinton\, BH23 7EF\nJoin us for a festive celebration like no other! Warm your heart and your taste buds with over 30 ales\, ciders\, gins\, and hot chocolates. We’ve got something for everyone — from rich porters and smooth stouts to fruity pale ales and zesty IPAs.\n\n Featured Beers Include:\nSilent Stones Amber | Amber Ale | 4.7%\nGinger Bread Amber | Spiced Amber Ale | 4.5%\nThe Phoenix IPA | IPA | 6%\nMisty Mountain Hop | Session IPA | 3.8%\nStrawberry Milkshake IPA | Milkshake IPA | 6%\nBonzo Tropical IPA | Tropical IPA | 3.8%\nRaspberry Ruffle Pale | Fruity Pale Ale | 4.2%\nBlack Dog Porter | Traditional Porter | 4.9%\nBlack Cherry Porter | Cherry Porter | 4.2%\n40 Past Midnight Porter | Coffee Porter | 6%\nThe Miraculous Beam Vintage | Imperial Porter | 8.4%\nSalted Caramel Porter-Stout | Caramel\n Live Music Lineup:\n2 PM – The Mr Nodge\n3 PM – Simon Wells\n4 PM – The LockStock Theatre Choir\n5 PM – MLC\n6:30 PM – Daytura\n DJ Beerwax will be keeping the festive beats flowing into the evening!\n\n Food & BBQ:Get ready for low & slow smoked BBQ delights\, warming festive treats\, and indulgent snacks to pair perfectly with your drinks.\n Santa Claus:The star of the show! Santa arrives from 2 – 4 PM in The Snug. Come and see him\, share whether you’ve been naughty or nice\, and make memories with the whole family.\n Extras: Cozy rustic farmhouse vibes\, fairy lights\, community cheer\, and the perfect festive atmosphere. Bring your friends\, family\, and your holiday spirit!
URL:https://www.droptheanchorbrewery.co.uk/comingsoon/12-beers-of-xxxxxxxxx/
LOCATION:Drop the Anchor Brewery\, East Close Farm\, Christchurch\, Hampshire\, bh23 7ef\, United Kingdom
ORGANIZER;CN="Drop The Anchor":MAILTO:info@droptheanchorbrewery.co.uk
END:VEVENT
END:VCALENDAR