BEGIN:VCALENDAR
VERSION:2.0
PRODID:-//Drop the Anchor Brewery - ECPv6.15.11//NONSGML v1.0//EN
CALSCALE:GREGORIAN
METHOD:PUBLISH
X-WR-CALNAME:Drop the Anchor Brewery
X-ORIGINAL-URL:https://www.droptheanchorbrewery.co.uk
X-WR-CALDESC:Events for Drop the Anchor Brewery
REFRESH-INTERVAL;VALUE=DURATION:PT1H
X-Robots-Tag:noindex
X-PUBLISHED-TTL:PT1H
BEGIN:VTIMEZONE
TZID:Europe/London
BEGIN:DAYLIGHT
TZOFFSETFROM:+0000
TZOFFSETTO:+0100
TZNAME:BST
DTSTART:20250330T010000
END:DAYLIGHT
BEGIN:STANDARD
TZOFFSETFROM:+0100
TZOFFSETTO:+0000
TZNAME:GMT
DTSTART:20251026T010000
END:STANDARD
BEGIN:DAYLIGHT
TZOFFSETFROM:+0000
TZOFFSETTO:+0100
TZNAME:BST
DTSTART:20260329T010000
END:DAYLIGHT
BEGIN:STANDARD
TZOFFSETFROM:+0100
TZOFFSETTO:+0000
TZNAME:GMT
DTSTART:20261025T010000
END:STANDARD
BEGIN:DAYLIGHT
TZOFFSETFROM:+0000
TZOFFSETTO:+0100
TZNAME:BST
DTSTART:20270328T010000
END:DAYLIGHT
BEGIN:STANDARD
TZOFFSETFROM:+0100
TZOFFSETTO:+0000
TZNAME:GMT
DTSTART:20271031T010000
END:STANDARD
END:VTIMEZONE
BEGIN:VEVENT
DTSTART;TZID=Europe/London:20260502T130000
DTEND;TZID=Europe/London:20260502T210000
DTSTAMP:20260422T152623
CREATED:20260223T125936Z
LAST-MODIFIED:20260413T102201Z
UID:1035-1777726800-1777755600@www.droptheanchorbrewery.co.uk
SUMMARY:9th Birthday ~ DTA Party
DESCRIPTION:Event by Drop the Anchor Brewery\n\n\n\n\n\n\n\n\n\n\n\n\nBuilding 9 East Close Farm Lyndhurst Road Hinton \, BH23 7EF Christchurch\, Dorset\, United Kingdom\n\n\n\n\n\n\n\n\n\n\n\n\n\nPublic  · Anyone on or off Facebook\n\n\n\n\n\n\n\n Save the Date – May 2nd \nJoin us for our Anniversary Beer Festival – a full day of fun\, flavor\, and fantastic music!\n Lyndhurst Road\, Building 9\, East Close Farm\, Hinton\, BH23 7EF Doors open at 1:00 PM\n £5 entry (kids go free!) – Proceeds help support our live entertainment and keep the brewery running strong.________________________________________\n What’s On Tap?\nWe’re bringing you 20+ handcrafted ales\, ciders\, and a full gin bar to enjoy all day long. Here’s a taste of what’s pouring: More ales will be added.\n Light & Refreshing\nCream Soda Crush (4%) – Summer cream soda ale\nMisty Mountain Hop IPA (3.8%) – Mandarin-flavored session IPA\nStrange Brew (3.4%) – Hazy\, easy-drinking IPA\nTucktonia Pale (4.7%) – Fruity pale ale\n Fruity & Citrusy\nBonzo Tropical IPA (3.8%) – Tropical hops explosion\nCitrus Citrus Citrus Pale (4.2%) – Triple citrus hit\nGrapefruit IPA Pale (4%) – Grapefruit IPA\nOtakaro Pale (5.5%) – Lychee\, mango\, gooseberry notes\nRaspberry Ruffle Pale (4.2%) – Sweet raspberry pale\nCandy Crush Pale (4.5%) – Orange candy infused\nCheeky Tarts and Limey Bastards (6.5%) – Tart\, lime citrus punch\n Dark & Decadent\nBlack Dog Porter (4.9%) – Classic roasty porter\nBlack Cherry Porter (4.2%) – Smooth cherry porter\nMaple Syrup Porter (4.2%) – Sweet maple syrup porter\n40 Past Midnight Porter (6%) – Mocha vanilla porter\nThe Miraculous Beam Vintage (8.4%) – Chocolate orange imperial porter\nSalted Caramel Porter-Stout (6%) – Sweet caramel stout\nBreaking Glass Hazelnut Porter-Stout (5%) – Hazelnut chocolate stout\nBounty Bar Porter (6%) – Chocolate coconut indulgence\nIt’s My Shadow Vanilla Porter (6%) – Smooth vanilla porter\nTurkish Delight Porter (4.2%) – Festive mince pie porter\nBlack Cat Porter (4.2%) – Sweeter oatmeal porter\nPeanut Butter Stout (4.2%) – Velvety peanut butter stout\n Stronger Brews\nStranger Brew Pale (8%) – Bold and hoppy pale\nThe Miraculous Beam Vintage (8.4%) – Imperial chocolate orange porter\n Malty & Seasonal\nSilent Stones Amber (4.7%) – Rich\, malty amber\nGinger Bread Amber (4.5%) – Ginger-spiced amber\n Pothecary Gin Bar also available for a refreshing twist.________________________________________\n Live Music & DJ Sets All DayFeaturing an eclectic mix of local artists and DJs:\nBands to be added soon\n\n Foodie HeavenGrab some mouthwatering street food________________________________________\n Tickets:£5 per person (kids under 16 go free!) – at the gate.________________________________________\nDon’t miss it – mark your calendars and get ready to celebrate with us!More details coming soon\, but this is one party you’ll want to be at. \nSee less\n\n\n\nMusic & audio\n\n\nChristchurch\, Dorset
URL:https://www.droptheanchorbrewery.co.uk/comingsoon/9th-birthday-dta-party/
LOCATION:Drop the Anchor Brewery\, East Close Farm\, Christchurch\, Hampshire\, bh23 7ef\, United Kingdom
ATTACH;FMTTYPE=image/png:https://www.droptheanchorbrewery.co.uk/wp-content/uploads/2026/02/d899e0e6-2e60-494b-9948-2ab59d7e59c1.png
ORGANIZER;CN="Drop The Anchor":MAILTO:info@droptheanchorbrewery.co.uk
END:VEVENT
END:VCALENDAR