BEGIN:VCALENDAR
VERSION:2.0
PRODID:-//Drop the Anchor Brewery - ECPv6.15.11//NONSGML v1.0//EN
CALSCALE:GREGORIAN
METHOD:PUBLISH
X-WR-CALNAME:Drop the Anchor Brewery
X-ORIGINAL-URL:https://www.droptheanchorbrewery.co.uk
X-WR-CALDESC:Events for Drop the Anchor Brewery
REFRESH-INTERVAL;VALUE=DURATION:PT1H
X-Robots-Tag:noindex
X-PUBLISHED-TTL:PT1H
BEGIN:VTIMEZONE
TZID:Europe/London
BEGIN:DAYLIGHT
TZOFFSETFROM:+0000
TZOFFSETTO:+0100
TZNAME:BST
DTSTART:20240331T010000
END:DAYLIGHT
BEGIN:STANDARD
TZOFFSETFROM:+0100
TZOFFSETTO:+0000
TZNAME:GMT
DTSTART:20241027T010000
END:STANDARD
BEGIN:DAYLIGHT
TZOFFSETFROM:+0000
TZOFFSETTO:+0100
TZNAME:BST
DTSTART:20250330T010000
END:DAYLIGHT
BEGIN:STANDARD
TZOFFSETFROM:+0100
TZOFFSETTO:+0000
TZNAME:GMT
DTSTART:20251026T010000
END:STANDARD
BEGIN:DAYLIGHT
TZOFFSETFROM:+0000
TZOFFSETTO:+0100
TZNAME:BST
DTSTART:20260329T010000
END:DAYLIGHT
BEGIN:STANDARD
TZOFFSETFROM:+0100
TZOFFSETTO:+0000
TZNAME:GMT
DTSTART:20261025T010000
END:STANDARD
END:VTIMEZONE
BEGIN:VEVENT
DTSTART;TZID=Europe/London:20251025T140000
DTEND;TZID=Europe/London:20251025T210000
DTSTAMP:20260422T194940
CREATED:20250711T082242Z
LAST-MODIFIED:20250902T084328Z
UID:942-1761400800-1761426000@www.droptheanchorbrewery.co.uk
SUMMARY:Spriggan Mist Beer Festival
DESCRIPTION:🎃👻 It’s Back! The Spooktacular Beer & Music Festival Returns! 👻🎃 \nJoin us on Saturday\, October 25th from 2 PM – 9 PM at Drop the Anchor Brewery for the ultimate Halloween celebration: Ghouls\, Witches & Ghostly Highwaymen Beer Fest! \nThis year we’re thrilled to welcome the incredible Spriggan Mist—a dynamic five-piece from Royal Berkshire\, bringing their unique mix of pagan folk rock and progressive sounds. Expect energy\, atmosphere\, and music with light and shade that’ll keep you spellbound. If you love folklore woven into powerful prog-rock\, this is not to be missed! \n🍺 On Tap – A Hauntingly Good Beer Lineup: \n\n\nThe Phoenix IPA (6%) – Smooth\, moreish\, with Pale Malt\, Oats & Organic Orange Peel. Citra Hop Tea infusion takes it to the next level. \n\n\nOtakaro NZ Pale (5.5%) – Fruity notes of lychee\, mango & gooseberry. \n\n\nThe Miraculous Beam (8.4%) – Chocolate\, roasted barley & orange peel in a velvety porter. \n\n\nTurkish Delight Stout (6%) – Rose water & chocolate in a unique seasonal stout. \n\n\nTucktonia Pale (4.7%) – Our award-winning classic pale ale. \n\n\nBonzo Tropical Fruit IPA (3.8%) – Motueka\, Pacific Jade & Citra hops deliver a fruity punch. \n\n\nMisty Mountain Hop IPA (3.8%) – Crisp combo of Citra\, Nelson Sauvignon\, Waimea & Mosaic. \n\n\nSilent Stones Amber (4.7%) – Balanced amber with Fuggle & Cascade hops. \n\n\nJester English Pale (3.8%) – Single-mash pale ale with Jester hops. \n\n\nBlack Dog (4.9%) – Classic smooth London porter. \n\n\nInfinite Jest (6%) – A bolder\, bigger Jester pale. \n\n\nPumpkin Stout (6%) – The perfect seasonal brew. \n\n\nTequilover (6.5%) – Tequila sour with lime for a tangy twist. \n\n\n(🔥 And yes\, even more to come!) \n🍴 Food: @bignosebbq serving up smoky street food.🎧 Entertainment: \n\n\nDJ Beerwax kicks things off at 2 PM \n\n\nLive music from Spriggan Mist later in the day \n\n\n👗 Fancy Dress (Optional): Come as ghouls\, witches\, or ghostly highwaymen—or just come as you are. Costumes welcome but not required! \n🎟️ Tickets: Only £7.50 (online or on the gate). No booking needed—just turn up\, grab a pint\, and join the fun. \n📅 Mark your calendar now—this is going to be a hauntingly good day of beer\, music\, food & spooky fun at Drop the Anchor Brewery! 🍻
URL:https://www.droptheanchorbrewery.co.uk/comingsoon/spriggan-mist-beer-festival/
LOCATION:Drop the Anchor Brewery\, East Close Farm\, Christchurch\, Hampshire\, bh23 7ef\, United Kingdom
ORGANIZER;CN="Drop The Anchor":MAILTO:info@droptheanchorbrewery.co.uk
END:VEVENT
END:VCALENDAR