BEGIN:VCALENDAR
VERSION:2.0
PRODID:-//Drop the Anchor Brewery - ECPv6.15.11//NONSGML v1.0//EN
CALSCALE:GREGORIAN
METHOD:PUBLISH
X-ORIGINAL-URL:https://www.droptheanchorbrewery.co.uk
X-WR-CALDESC:Events for Drop the Anchor Brewery
REFRESH-INTERVAL;VALUE=DURATION:PT1H
X-Robots-Tag:noindex
X-PUBLISHED-TTL:PT1H
BEGIN:VTIMEZONE
TZID:Europe/London
BEGIN:DAYLIGHT
TZOFFSETFROM:+0000
TZOFFSETTO:+0100
TZNAME:BST
DTSTART:20240331T010000
END:DAYLIGHT
BEGIN:STANDARD
TZOFFSETFROM:+0100
TZOFFSETTO:+0000
TZNAME:GMT
DTSTART:20241027T010000
END:STANDARD
BEGIN:DAYLIGHT
TZOFFSETFROM:+0000
TZOFFSETTO:+0100
TZNAME:BST
DTSTART:20250330T010000
END:DAYLIGHT
BEGIN:STANDARD
TZOFFSETFROM:+0100
TZOFFSETTO:+0000
TZNAME:GMT
DTSTART:20251026T010000
END:STANDARD
BEGIN:DAYLIGHT
TZOFFSETFROM:+0000
TZOFFSETTO:+0100
TZNAME:BST
DTSTART:20260329T010000
END:DAYLIGHT
BEGIN:STANDARD
TZOFFSETFROM:+0100
TZOFFSETTO:+0000
TZNAME:GMT
DTSTART:20261025T010000
END:STANDARD
END:VTIMEZONE
BEGIN:VEVENT
DTSTART;TZID=Europe/London:20250718T153000
DTEND;TZID=Europe/London:20250718T190000
DTSTAMP:20260422T152629
CREATED:20250711T081506Z
LAST-MODIFIED:20250711T081506Z
UID:935-1752852600-1752865200@www.droptheanchorbrewery.co.uk
SUMMARY:Beats and Brews
DESCRIPTION:DJ Nights are back at DTA – Let’s Get Spinning! \n\n\nwe’re turning up the vibes with our DJ sessions at Drop the Anchor Brewery\, happening on alternate Fridays\, starting Friday 4th July!\n\n\nCalling all crate diggers\, beat selectors\, vinyl junkies\, and groove makers — come spin your sounds in a laid-back\, open-deck setting.\n\n\n From 5pm to 7pm\n 30-minute slots\n Free drink for each DJ\n\n\nWe’ll have decks\, mixer\, and PA set up and ready to go in the Horse Box Studio — just bring your music and your best selections.\n\n\nIf you’re up for playing a set\, DM us on socials or email info@droptheanchorbrewery.co.uk to get involved.\n\n\nExpect chilled-out energy\, eclectic sounds\, and plenty of good beer. Let’s build the vibe together.
URL:https://www.droptheanchorbrewery.co.uk/comingsoon/beats-and-brews/
LOCATION:Drop the Anchor Brewery\, East Close Farm\, Christchurch\, Hampshire\, bh23 7ef\, United Kingdom
ORGANIZER;CN="Drop The Anchor":MAILTO:info@droptheanchorbrewery.co.uk
END:VEVENT
END:VCALENDAR