BEGIN:VCALENDAR
VERSION:2.0
PRODID:-//Drop the Anchor Brewery - ECPv6.15.11//NONSGML v1.0//EN
CALSCALE:GREGORIAN
METHOD:PUBLISH
X-ORIGINAL-URL:https://www.droptheanchorbrewery.co.uk
X-WR-CALDESC:Events for Drop the Anchor Brewery
REFRESH-INTERVAL;VALUE=DURATION:PT1H
X-Robots-Tag:noindex
X-PUBLISHED-TTL:PT1H
BEGIN:VTIMEZONE
TZID:Europe/London
BEGIN:DAYLIGHT
TZOFFSETFROM:+0000
TZOFFSETTO:+0100
TZNAME:BST
DTSTART:20240331T010000
END:DAYLIGHT
BEGIN:STANDARD
TZOFFSETFROM:+0100
TZOFFSETTO:+0000
TZNAME:GMT
DTSTART:20241027T010000
END:STANDARD
BEGIN:DAYLIGHT
TZOFFSETFROM:+0000
TZOFFSETTO:+0100
TZNAME:BST
DTSTART:20250330T010000
END:DAYLIGHT
BEGIN:STANDARD
TZOFFSETFROM:+0100
TZOFFSETTO:+0000
TZNAME:GMT
DTSTART:20251026T010000
END:STANDARD
BEGIN:DAYLIGHT
TZOFFSETFROM:+0000
TZOFFSETTO:+0100
TZNAME:BST
DTSTART:20260329T010000
END:DAYLIGHT
BEGIN:STANDARD
TZOFFSETFROM:+0100
TZOFFSETTO:+0000
TZNAME:GMT
DTSTART:20261025T010000
END:STANDARD
END:VTIMEZONE
BEGIN:VEVENT
DTSTART;TZID=Europe/London:20250712T143000
DTEND;TZID=Europe/London:20250712T210000
DTSTAMP:20260422T152904
CREATED:20250710T183303Z
LAST-MODIFIED:20250710T183303Z
UID:932-1752330600-1752354000@www.droptheanchorbrewery.co.uk
SUMMARY:UNSIGNED SESSIONS PART 2
DESCRIPTION:UNSIGNED SESSIONS PART 2\n•\nFollowing the success of the last run out in May\, Unsigned Sessions are BACK at Drop The Anchor with 4 brilliant acts and more TBA \n•\nThis time around it is FREE ENTRY on the gate\, with an optional honesty box to help us keep putting these events on and giving opportunities to the local talent in the New Forest and BCP\n•\nAny queries please let one of our team know and if you are an upcoming act reading this get in touch with @dylanreescoshan\n•\nOh\, and did I forget to mention?? @bignosebbq will be firing up the smoker and bringing you fresh\, local and exceptional BBQ food throughout the day\, pair that with award winning @droptheanchorbrewery beer and its a winner! See you there \n•\n#livemusic #gig #bournemouthgigs #originalmusic
URL:https://www.droptheanchorbrewery.co.uk/comingsoon/unsigned-sessions-part-2/
LOCATION:Drop the Anchor Brewery\, East Close Farm\, Christchurch\, Hampshire\, bh23 7ef\, United Kingdom
END:VEVENT
END:VCALENDAR